View In:
ArcGIS JavaScript
ArcGIS Online Map Viewer
ArcGIS Earth
ArcMap
View Footprint In:
ArcGIS Online Map Viewer
Service Description: ImageServiceSecurise/Walser_1767
Name: ImageServiceSecurise/Walser_1767
Description:
Single Fused Map Cache: false
Extent:
XMin: 2522487.3311913903
YMin: 1141564.9501621502
XMax: 2611662.5005263905
YMax: 1216046.8101781502
Spatial Reference: 2056
(2056)
Initial Extent:
XMin: 2522487.3311913903
YMin: 1141564.9501621502
XMax: 2611662.5005263905
YMax: 1216046.8101781502
Spatial Reference: 2056
(2056)
Full Extent:
XMin: 2522487.3311913903
YMin: 1141564.9501621502
XMax: 2611662.5005263905
YMax: 1216046.8101781502
Spatial Reference: 2056
(2056)
Pixel Size X: 19.156857000000045
Pixel Size Y: 19.156857
Band Count: 3
Pixel Type: U8
RasterFunction Infos: {"rasterFunctionInfos": [{
"name": "None",
"description": "",
"help": ""
}]}
Mensuration Capabilities: Basic
Has Histograms: false
Has Colormap: false
Has Multi Dimensions : false
Rendering Rule:
Min Scale: 0
Max Scale: 0
Copyright Text:
Service Data Type: esriImageServiceDataTypeRGB
Min Values: 9, 14, 0
Max Values: 255, 255, 255
Mean Values: 223.40621328012, 209.22940361379, 170.23659793814
Standard Deviation Values: 44.48709079997, 43.465289106188, 56.501163385782
Object ID Field:
Fields:
None
Default Mosaic Method: Center
Allowed Mosaic Methods:
SortField:
SortValue: null
Mosaic Operator: First
Default Compression Quality: 75
Default Resampling Method: Bilinear
Max Record Count: null
Max Image Height: 4100
Max Image Width: 15000
Max Download Image Count: null
Max Mosaic Image Count: null
Allow Raster Function: true
Allow Copy: null
Allow Analysis: null
Allow Compute TiePoints: false
Supports Statistics: false
Supports Advanced Queries: false
Use StandardizedQueries: true
Raster Type Infos:
Name: Raster Dataset
Description: Supports all ArcGIS Raster Datasets
Help:
Has Raster Attribute Table: false
Edit Fields Info: null
Ownership Based AccessControl For Rasters: null
Child Resources:
Info
Key Properties
Legend
Raster Function Infos
Supported Operations:
Export Image
Identify
Measure
Compute Histograms
Compute Statistics Histograms
Get Samples
Compute Class Statistics
Query Boundary
Compute Pixel Location
Validate
Project