{
 "currentVersion": 10.81,
 "serviceDescription": "ImageServiceSecurise/Walser_1767",
 "name": "ImageServiceSecurise/Walser_1767",
 "description": "",
 "extent": {
  "xmin": 2522487.3311913903,
  "ymin": 1141564.9501621502,
  "xmax": 2611662.5005263905,
  "ymax": 1216046.8101781502,
  "spatialReference": {
   "wkid": 2056,
   "latestWkid": 2056
  }
 },
 "initialExtent": {
  "xmin": 2522487.3311913903,
  "ymin": 1141564.9501621502,
  "xmax": 2611662.5005263905,
  "ymax": 1216046.8101781502,
  "spatialReference": {
   "wkid": 2056,
   "latestWkid": 2056
  }
 },
 "fullExtent": {
  "xmin": 2522487.3311913903,
  "ymin": 1141564.9501621502,
  "xmax": 2611662.5005263905,
  "ymax": 1216046.8101781502,
  "spatialReference": {
   "wkid": 2056,
   "latestWkid": 2056
  }
 },
 "pixelSizeX": 19.156857000000045,
 "pixelSizeY": 19.156857,
 "bandCount": 3,
 "pixelType": "U8",
 "minPixelSize": 0,
 "maxPixelSize": 0,
 "copyrightText": "",
 "serviceDataType": "esriImageServiceDataTypeRGB",
 "minValues": [
  9,
  14,
  0
 ],
 "maxValues": [
  255,
  255,
  255
 ],
 "meanValues": [
  223.40621328012,
  209.22940361379,
  170.23659793814
 ],
 "stdvValues": [
  44.48709079997,
  43.465289106188,
  56.501163385782
 ],
 "objectIdField": "",
 "fields": [],
 "capabilities": "Image,Metadata,Mensuration",
 "defaultMosaicMethod": "Center",
 "allowedMosaicMethods": "",
 "sortField": "",
 "sortValue": null,
 "sortAscending": true,
 "mosaicOperator": "First",
 "defaultCompressionQuality": 75,
 "defaultResamplingMethod": "Bilinear",
 "maxImageHeight": 4100,
 "maxImageWidth": 15000,
 "allowRasterFunction": true,
 "rasterFunctionInfos": [
  {
   "name": "None",
   "description": "",
   "help": ""
  }
 ],
 "rasterTypeInfos": [
  {
   "name": "Raster Dataset",
   "description": "Supports all ArcGIS Raster Datasets",
   "help": ""
  }
 ],
 "mensurationCapabilities": "Basic",
 "hasHistograms": false,
 "hasColormap": false,
 "hasRasterAttributeTable": false,
 "minScale": 0,
 "maxScale": 0,
 "exportTilesAllowed": false,
 "hasMultidimensions": false,
 "supportsStatistics": false,
 "supportsAdvancedQueries": false,
 "editFieldsInfo": null,
 "ownershipBasedAccessControlForRasters": null,
 "allowComputeTiePoints": false,
 "useStandardizedQueries": true,
 "advancedQueryCapabilities": {
  "useStandardizedQueries": true,
  "supportsStatistics": false,
  "supportsOrderBy": false,
  "supportsDistinct": false,
  "supportsPagination": false
 },
 "spatialReference": {
  "wkid": 2056,
  "latestWkid": 2056
 }
}
