View In:
ArcGIS JavaScript
ArcGIS Online Map Viewer
ArcGIS Earth
ArcMap
View Footprint In:
ArcGIS Online Map Viewer
Service Description: ImageServiceSecurise/MeyerWeiss_Couleur_1802
Name: ImageServiceSecurise/MeyerWeiss_Couleur_1802
Description:
Single Fused Map Cache: false
Extent:
XMin: 2545987.5
YMin: 1141987.5
XMax: 2597012.5
YMax: 1207012.5
Spatial Reference: 2056
(2056)
Initial Extent:
XMin: 2545987.5
YMin: 1141987.5
XMax: 2597012.5
YMax: 1207012.5
Spatial Reference: 2056
(2056)
Full Extent:
XMin: 2545987.5
YMin: 1141987.5
XMax: 2597012.5
YMax: 1207012.5
Spatial Reference: 2056
(2056)
Pixel Size X: 25.0
Pixel Size Y: 25.0
Band Count: 3
Pixel Type: U8
RasterFunction Infos: {"rasterFunctionInfos": [{
"name": "None",
"description": "",
"help": ""
}]}
Mensuration Capabilities: Basic
Has Histograms: true
Has Colormap: false
Has Multi Dimensions : false
Rendering Rule:
Min Scale: 0
Max Scale: 0
Copyright Text:
Service Data Type: esriImageServiceDataTypeRGB
Min Values: 0, 0, 0
Max Values: 255, 249, 224
Mean Values: 191.70422712706, 172.47420290805, 142.33028867463
Standard Deviation Values: 75.372686597055, 73.236336972771, 65.691334477503
Object ID Field:
Fields:
None
Default Mosaic Method: Center
Allowed Mosaic Methods:
SortField:
SortValue: null
Mosaic Operator: First
Default Compression Quality: 75
Default Resampling Method: Bilinear
Max Record Count: null
Max Image Height: 4100
Max Image Width: 15000
Max Download Image Count: null
Max Mosaic Image Count: null
Allow Raster Function: true
Allow Copy: null
Allow Analysis: null
Allow Compute TiePoints: false
Supports Statistics: false
Supports Advanced Queries: false
Use StandardizedQueries: true
Raster Type Infos:
Name: Raster Dataset
Description: Supports all ArcGIS Raster Datasets
Help:
Has Raster Attribute Table: false
Edit Fields Info: null
Ownership Based AccessControl For Rasters: null
Child Resources:
Info
Histograms
Key Properties
Legend
Raster Function Infos
Supported Operations:
Export Image
Identify
Measure
Compute Histograms
Compute Statistics Histograms
Get Samples
Compute Class Statistics
Query Boundary
Compute Pixel Location
Validate
Project