{
 "currentVersion": 10.81,
 "serviceDescription": "ImageServiceSecurise/MeyerWeiss_Couleur_1802",
 "name": "ImageServiceSecurise/MeyerWeiss_Couleur_1802",
 "description": "",
 "extent": {
  "xmin": 2545987.5,
  "ymin": 1141987.5,
  "xmax": 2597012.5,
  "ymax": 1207012.5,
  "spatialReference": {
   "wkid": 2056,
   "latestWkid": 2056
  }
 },
 "initialExtent": {
  "xmin": 2545987.5,
  "ymin": 1141987.5,
  "xmax": 2597012.5,
  "ymax": 1207012.5,
  "spatialReference": {
   "wkid": 2056,
   "latestWkid": 2056
  }
 },
 "fullExtent": {
  "xmin": 2545987.5,
  "ymin": 1141987.5,
  "xmax": 2597012.5,
  "ymax": 1207012.5,
  "spatialReference": {
   "wkid": 2056,
   "latestWkid": 2056
  }
 },
 "pixelSizeX": 25,
 "pixelSizeY": 25,
 "bandCount": 3,
 "pixelType": "U8",
 "minPixelSize": 0,
 "maxPixelSize": 0,
 "copyrightText": "",
 "serviceDataType": "esriImageServiceDataTypeRGB",
 "minValues": [
  0,
  0,
  0
 ],
 "maxValues": [
  255,
  249,
  224
 ],
 "meanValues": [
  191.70422712706,
  172.47420290805,
  142.33028867463
 ],
 "stdvValues": [
  75.372686597055,
  73.236336972771,
  65.691334477503
 ],
 "objectIdField": "",
 "fields": [],
 "capabilities": "Image,Metadata,Mensuration",
 "defaultMosaicMethod": "Center",
 "allowedMosaicMethods": "",
 "sortField": "",
 "sortValue": null,
 "sortAscending": true,
 "mosaicOperator": "First",
 "defaultCompressionQuality": 75,
 "defaultResamplingMethod": "Bilinear",
 "maxImageHeight": 4100,
 "maxImageWidth": 15000,
 "allowRasterFunction": true,
 "rasterFunctionInfos": [
  {
   "name": "None",
   "description": "",
   "help": ""
  }
 ],
 "rasterTypeInfos": [
  {
   "name": "Raster Dataset",
   "description": "Supports all ArcGIS Raster Datasets",
   "help": ""
  }
 ],
 "mensurationCapabilities": "Basic",
 "hasHistograms": true,
 "hasColormap": false,
 "hasRasterAttributeTable": false,
 "minScale": 0,
 "maxScale": 0,
 "exportTilesAllowed": false,
 "hasMultidimensions": false,
 "supportsStatistics": false,
 "supportsAdvancedQueries": false,
 "editFieldsInfo": null,
 "ownershipBasedAccessControlForRasters": null,
 "allowComputeTiePoints": false,
 "useStandardizedQueries": true,
 "advancedQueryCapabilities": {
  "useStandardizedQueries": true,
  "supportsStatistics": false,
  "supportsOrderBy": false,
  "supportsDistinct": false,
  "supportsPagination": false
 },
 "spatialReference": {
  "wkid": 2056,
  "latestWkid": 2056
 }
}
