View In:
ArcGIS JavaScript
ArcGIS Online Map Viewer
ArcGIS Earth
ArcMap
View Footprint In:
ArcGIS Online Map Viewer
Service Description: ImageServiceSecurise/Stryienski_100000
Name: ImageServiceSecurise/Stryienski_100000
Description:
Single Fused Map Cache: false
Extent:
XMin: 2541504.042
YMin: 1132275.5633
XMax: 2606282.542
YMax: 1213476.0633
Spatial Reference: 2056
(2056)
Initial Extent:
XMin: 2541504.042
YMin: 1132275.5633
XMax: 2606282.542
YMax: 1213476.0633
Spatial Reference: 2056
(2056)
Full Extent:
XMin: 2541504.042
YMin: 1132275.5633
XMax: 2606282.542
YMax: 1213476.0633
Spatial Reference: 2056
(2056)
Pixel Size X: 8.5
Pixel Size Y: 8.5
Band Count: 3
Pixel Type: U8
RasterFunction Infos: {"rasterFunctionInfos": [{
"name": "None",
"description": "",
"help": ""
}]}
Mensuration Capabilities: Basic
Has Histograms: false
Has Colormap: false
Has Multi Dimensions : false
Rendering Rule:
Min Scale: 0
Max Scale: 0
Copyright Text:
Service Data Type: esriImageServiceDataTypeRGB
Min Values: 0, 0, 0
Max Values: 255, 255, 255
Mean Values: 193.67546550137, 183.50313861291, 146.08002638414
Standard Deviation Values: 71.183461995309, 65.98709240014, 51.080496129428
Object ID Field:
Fields:
None
Default Mosaic Method: Center
Allowed Mosaic Methods:
SortField:
SortValue: null
Mosaic Operator: First
Default Compression Quality: 75
Default Resampling Method: Bilinear
Max Record Count: null
Max Image Height: 4100
Max Image Width: 15000
Max Download Image Count: null
Max Mosaic Image Count: null
Allow Raster Function: true
Allow Copy: null
Allow Analysis: null
Allow Compute TiePoints: false
Supports Statistics: false
Supports Advanced Queries: false
Use StandardizedQueries: true
Raster Type Infos:
Name: Raster Dataset
Description: Supports all ArcGIS Raster Datasets
Help:
Has Raster Attribute Table: false
Edit Fields Info: null
Ownership Based AccessControl For Rasters: null
Child Resources:
Info
Key Properties
Legend
Raster Function Infos
Supported Operations:
Export Image
Identify
Measure
Compute Histograms
Compute Statistics Histograms
Get Samples
Compute Class Statistics
Query Boundary
Compute Pixel Location
Validate
Project