View In:
ArcGIS JavaScript
ArcGIS Online Map Viewer
ArcGIS Earth
ArcMap
View Footprint In:
ArcGIS Online Map Viewer
Service Description: Swissimage 2020
Name: ImageServiceSecurise/Orthophotos_2020
Description: Swissimage 2020
Single Fused Map Cache: true
Tile Info:
- Height: 256
- Width: 256
- DPI: 96
-
Levels of Detail: 14
- Format: MIXED
- Compression Quality: 85.0
- LERC Error: NaN
- Origin: X: -2.73864E7
Y: 3.18145E7
- Spatial Reference: 2056
(2056)
Extent:
XMin: 2545999.9872999787
YMin: 1141999.9999999963
XMax: 2595999.9872999787
YMax: 1206999.9999999963
Spatial Reference: 2056
(2056)
Initial Extent:
XMin: 2545999.9872999787
YMin: 1141999.9999999963
XMax: 2595999.9872999787
YMax: 1206999.9999999963
Spatial Reference: 2056
(2056)
Full Extent:
XMin: 2545999.9872999787
YMin: 1141999.9999999963
XMax: 2595999.9872999787
YMax: 1206999.9999999963
Spatial Reference: 2056
(2056)
Pixel Size X: 0.052916772500211665
Pixel Size Y: 0.052916772500211665
Band Count: 3
Pixel Type: U8
RasterFunction Infos: {"rasterFunctionInfos": [{
"name": "None",
"description": "",
"help": ""
}]}
Mensuration Capabilities: Basic
Has Histograms: false
Has Colormap: false
Has Multi Dimensions : false
Rendering Rule:
Min Scale: 1000000
Max Scale: 200
Copyright Text:
Service Data Type: esriImageServiceDataTypeRGB
Min Values: N/A
Max Values: N/A
Mean Values: N/A
Standard Deviation Values: N/A
Object ID Field:
Fields:
None
Default Mosaic Method: Center
Allowed Mosaic Methods:
SortField:
SortValue: null
Mosaic Operator: First
Default Compression Quality: 75
Default Resampling Method: Bicubic
Max Record Count: null
Max Image Height: 4100
Max Image Width: 15000
Max Download Image Count: null
Max Mosaic Image Count: null
Allow Raster Function: true
Allow Copy: true
Allow Analysis: true
Allow Compute TiePoints: false
Supports Statistics: false
Supports Advanced Queries: false
Use StandardizedQueries: true
Raster Type Infos:
Name: Raster Dataset
Description: Supports all ArcGIS Raster Datasets
Help:
Has Raster Attribute Table: false
Edit Fields Info: null
Ownership Based AccessControl For Rasters: null
Child Resources:
Info
Statistics
Key Properties
Legend
Raster Function Infos
Supported Operations:
Export Image
Identify
Measure
Compute Histograms
Compute Statistics Histograms
Get Samples
Compute Class Statistics
Query Boundary
Compute Pixel Location
Validate
Project