{
 "currentVersion": 10.81,
 "serviceDescription": "ImageServiceSecurise/Stryienski_25000",
 "name": "ImageServiceSecurise/Stryienski_25000",
 "description": "",
 "extent": {
  "xmin": 2546274.75,
  "ymin": 1142703.8643,
  "xmax": 2595932.75,
  "ymax": 1206803.8643,
  "spatialReference": {
   "wkid": 2056,
   "latestWkid": 2056
  }
 },
 "initialExtent": {
  "xmin": 2546274.75,
  "ymin": 1142703.8643,
  "xmax": 2595932.75,
  "ymax": 1206803.8643,
  "spatialReference": {
   "wkid": 2056,
   "latestWkid": 2056
  }
 },
 "fullExtent": {
  "xmin": 2546274.75,
  "ymin": 1142703.8643,
  "xmax": 2595932.75,
  "ymax": 1206803.8643,
  "spatialReference": {
   "wkid": 2056,
   "latestWkid": 2056
  }
 },
 "pixelSizeX": 2,
 "pixelSizeY": 2,
 "bandCount": 3,
 "pixelType": "U8",
 "minPixelSize": 0,
 "maxPixelSize": 0,
 "copyrightText": "",
 "serviceDataType": "esriImageServiceDataTypeRGB",
 "minValues": [
  1,
  1,
  1
 ],
 "maxValues": [
  255,
  255,
  255
 ],
 "meanValues": [
  219.56495879682,
  209.78508906788,
  186.25462093339
 ],
 "stdvValues": [
  32.691400644877,
  33.300334581047,
  34.16205664732
 ],
 "objectIdField": "",
 "fields": [],
 "capabilities": "Image,Metadata,Mensuration",
 "defaultMosaicMethod": "Center",
 "allowedMosaicMethods": "",
 "sortField": "",
 "sortValue": null,
 "sortAscending": true,
 "mosaicOperator": "First",
 "defaultCompressionQuality": 75,
 "defaultResamplingMethod": "Bilinear",
 "maxImageHeight": 4100,
 "maxImageWidth": 15000,
 "allowRasterFunction": true,
 "rasterFunctionInfos": [
  {
   "name": "None",
   "description": "",
   "help": ""
  }
 ],
 "rasterTypeInfos": [
  {
   "name": "Raster Dataset",
   "description": "Supports all ArcGIS Raster Datasets",
   "help": ""
  }
 ],
 "mensurationCapabilities": "Basic",
 "hasHistograms": true,
 "hasColormap": false,
 "hasRasterAttributeTable": false,
 "minScale": 0,
 "maxScale": 0,
 "exportTilesAllowed": false,
 "hasMultidimensions": false,
 "supportsStatistics": false,
 "supportsAdvancedQueries": false,
 "editFieldsInfo": null,
 "ownershipBasedAccessControlForRasters": null,
 "allowComputeTiePoints": false,
 "useStandardizedQueries": true,
 "advancedQueryCapabilities": {
  "useStandardizedQueries": true,
  "supportsStatistics": false,
  "supportsOrderBy": false,
  "supportsDistinct": false,
  "supportsPagination": false
 },
 "spatialReference": {
  "wkid": 2056,
  "latestWkid": 2056
 }
}
